BEGIN:VCALENDAR
VERSION:2.0
PRODID:-//Washington State Horsemen - ECPv6.15.20//NONSGML v1.0//EN
CALSCALE:GREGORIAN
METHOD:PUBLISH
X-ORIGINAL-URL:https://washingtonstatehorsemen.org
X-WR-CALDESC:Events for Washington State Horsemen
REFRESH-INTERVAL;VALUE=DURATION:PT1H
X-Robots-Tag:noindex
X-PUBLISHED-TTL:PT1H
BEGIN:VTIMEZONE
TZID:America/Monterrey
BEGIN:STANDARD
TZOFFSETFROM:-0600
TZOFFSETTO:-0600
TZNAME:CST
DTSTART:20250101T000000
END:STANDARD
END:VTIMEZONE
BEGIN:VEVENT
DTSTART;TZID=America/Monterrey:20261114T073000
DTEND;TZID=America/Monterrey:20261114T220000
DTSTAMP:20260419T133603
CREATED:20221014T221136Z
LAST-MODIFIED:20260217T033925Z
UID:9604-1794641400-1794693600@washingtonstatehorsemen.org
SUMMARY:WSH Annual Convention
DESCRIPTION:Members from across the State of Washington come together annually to celebrate their achievements as well as elect officers\, review bylaws\, and discuss the general welfare of the organization. More information can be found on the WSH Website at https://washingtonstatehorsemen.org/annual-convention/. Today the schedule is as follows \n7:30-9:00…Registration (4th Floor Hallway)\n8:30-9:00…Opening Session / President’s Message (Plaza)\n9:00-10:30…Games Division Meeting (Riverside)\n9:00-Noon…Horse Show Division Meeting (Plaza)\n10:30-Noon…Games Division Clinic (Riverside)\nNoon-1:00…Youth Merit Meeting and Awards (Riverside)\n12:30-2:30…LOC Meeting – Closed (Quartermaster)\n1:00-1:30…Lunch Break\n1:30-3:30…Horse Show Division Set-Up (Plaza)\n2:00-3:00…Trails and Pleasure Division Meeting (Riverside)\n3:00-4:00…Ask the Horse Show Division Judges (Quartermaster)\n5:00-5:30…No Host Social “Hour” (Plaza / Riverside / Quartermaster)\n5:30-6:30…Celebration Banquet Dinner (Plaza / Riverside / Quartermaster)\n6:30-7:30…Special Awards Presentation and Silent Auction to Benefit\n	 …Youth Merit Program (Plaza / Riverside / Quartermaster)\n7:30…Games Division Awards (Riverside)\n7:30…Horse Show Division Awards (Plaza / Quartermaster)\n9:00-11:00…Inter-Divisional Social Activity (Riverside) \nLooking forward to seeing you in Kennewick!
URL:https://washingtonstatehorsemen.org/event/wsh-annual-convention-5/
LOCATION:Clover Island Inn\, 435 Clover Island Dr\, Kennewick\, WA\, 99336\, United States
CATEGORIES:Games Division,Games Division Meetings,Horse Show Division Meetings,Trails & Pleasure Division,Washington State Horsemen Meeting / Event,Youth Merit Division,Zone Meeting
ORGANIZER;CN="Emma Tanner":MAILTO:emmamclaughlin11@gmail.com
END:VEVENT
END:VCALENDAR