BEGIN:VCALENDAR
VERSION:2.0
PRODID:-//Washington State Horsemen - ECPv6.15.20//NONSGML v1.0//EN
CALSCALE:GREGORIAN
METHOD:PUBLISH
X-WR-CALNAME:Washington State Horsemen
X-ORIGINAL-URL:https://washingtonstatehorsemen.org
X-WR-CALDESC:Events for Washington State Horsemen
REFRESH-INTERVAL;VALUE=DURATION:PT1H
X-Robots-Tag:noindex
X-PUBLISHED-TTL:PT1H
BEGIN:VTIMEZONE
TZID:America/Monterrey
BEGIN:DAYLIGHT
TZOFFSETFROM:-0600
TZOFFSETTO:-0500
TZNAME:CDT
DTSTART:20220403T080000
END:DAYLIGHT
BEGIN:STANDARD
TZOFFSETFROM:-0500
TZOFFSETTO:-0600
TZNAME:CST
DTSTART:20221030T070000
END:STANDARD
END:VTIMEZONE
BEGIN:VEVENT
DTSTART;TZID=America/Monterrey:20230610T080000
DTEND;TZID=America/Monterrey:20230611T170000
DTSTAMP:20260424T041320
CREATED:20230108T231650Z
LAST-MODIFIED:20230108T231650Z
UID:9761-1686384000-1686502800@washingtonstatehorsemen.org
SUMMARY:Appleatchee Riders Classical and Western Dressage 2 Day Show
DESCRIPTION:
URL:https://washingtonstatehorsemen.org/event/appleatchee-riders-classical-and-western-dressage-2-day-show/
LOCATION:Appleatchee Riders\, 1130 Circle St\, Wenatchee\, WA\, 98801\, United States
CATEGORIES:Dressage
ORGANIZER;CN="Breanna Howell":MAILTO:appleatchee@nwi.net
END:VEVENT
END:VCALENDAR