BEGIN:VCALENDAR
VERSION:2.0
PRODID:-//Washington State Horsemen - ECPv6.15.20//NONSGML v1.0//EN
CALSCALE:GREGORIAN
METHOD:PUBLISH
X-ORIGINAL-URL:https://washingtonstatehorsemen.org
X-WR-CALDESC:Events for Washington State Horsemen
REFRESH-INTERVAL;VALUE=DURATION:PT1H
X-Robots-Tag:noindex
X-PUBLISHED-TTL:PT1H
BEGIN:VTIMEZONE
TZID:America/Monterrey
BEGIN:STANDARD
TZOFFSETFROM:-0600
TZOFFSETTO:-0600
TZNAME:CST
DTSTART:20250101T000000
END:STANDARD
END:VTIMEZONE
BEGIN:VEVENT
DTSTART;VALUE=DATE:20260906
DTEND;VALUE=DATE:20260907
DTSTAMP:20260421T230831
CREATED:20260319T021623Z
LAST-MODIFIED:20260319T021623Z
UID:11960-1788652800-1788739199@washingtonstatehorsemen.org
SUMMARY:HOME STRETCH OPEN DRESSAGE SHOW
DESCRIPTION:HOME STRETCH OPEN DRESSAGE SHOW \n  \n1 WSH Judge \n  \n 
URL:https://washingtonstatehorsemen.org/event/home-stretch-open-dressage-show/
LOCATION:Jefferson County Fairgrounds\, 4450 Jackman St.\, Port Townsend\,\, WA\, 98368\, United States
CATEGORIES:Dressage,Horse Show Division
ORGANIZER;CN="Emmeline Hopkins":MAILTO:emmeline.hopkins@gmail.com
END:VEVENT
BEGIN:VEVENT
DTSTART;TZID=America/Monterrey:20260919T080000
DTEND;TZID=America/Monterrey:20260919T170000
DTSTAMP:20260421T230831
CREATED:20260303T025630Z
LAST-MODIFIED:20260331T024537Z
UID:11928-1789804800-1789837200@washingtonstatehorsemen.org
SUMMARY:FALL CLASSIC DRESSAGE SHOW
DESCRIPTION:FALL CLASSIC DRESSAGE SHOW \n1 WSH JUDGE \n  \nPRIZE LIST & ENTRY FORM
URL:https://washingtonstatehorsemen.org/event/fall-classic-dressage-show/
LOCATION:Franklin County Saddle Club\, 2801 Road 60\, Pasco\, WA\, 99302\, United States
CATEGORIES:Dressage,Horse Show Division
ORGANIZER;CN="Cheryl Beaudry":MAILTO:beaudryhorsemanship@gmail.com
END:VEVENT
BEGIN:VEVENT
DTSTART;VALUE=DATE:20260926
DTEND;VALUE=DATE:20260928
DTSTAMP:20260421T230831
CREATED:20260224T040106Z
LAST-MODIFIED:20260319T021736Z
UID:11903-1790380800-1790553599@washingtonstatehorsemen.org
SUMMARY:CWDS Fall Classic
DESCRIPTION:Central Washington Dressage Society’s Fall Classic Dressage Show \n  \nPRIZE LIST & ENTRY
URL:https://washingtonstatehorsemen.org/event/cwds-fall-classic/
LOCATION:Riverside Arena\, 1606 University Parkway\, Yakima\, WA\, United States
CATEGORIES:Dressage,Horse Show Division
ORGANIZER;CN="Cheryl Beaudry":MAILTO:beaudryhorsemanship@gmail.com
END:VEVENT
END:VCALENDAR