BEGIN:VCALENDAR
VERSION:2.0
PRODID:-//Washington State Horsemen - ECPv6.15.20//NONSGML v1.0//EN
CALSCALE:GREGORIAN
METHOD:PUBLISH
X-ORIGINAL-URL:https://washingtonstatehorsemen.org
X-WR-CALDESC:Events for Washington State Horsemen
REFRESH-INTERVAL;VALUE=DURATION:PT1H
X-Robots-Tag:noindex
X-PUBLISHED-TTL:PT1H
BEGIN:VTIMEZONE
TZID:America/Monterrey
BEGIN:STANDARD
TZOFFSETFROM:-0600
TZOFFSETTO:-0600
TZNAME:CST
DTSTART:20250101T000000
END:STANDARD
END:VTIMEZONE
BEGIN:VEVENT
DTSTART;VALUE=DATE:20260626
DTEND;VALUE=DATE:20260627
DTSTAMP:20260421T182829
CREATED:20251228T182513Z
LAST-MODIFIED:20260331T024910Z
UID:11722-1782432000-1782518399@washingtonstatehorsemen.org
SUMMARY:WA STATE CLASSIC DRESSAGE SHOW
DESCRIPTION:WA State Classic Dressage Show \n1 Judge \nContact: Cheryl Beaudry\nbeaudryhorsemanship@gmail.com \n  \nPRIZE LIST & ENTRY FORM 
URL:https://washingtonstatehorsemen.org/event/wa-state-classic-dressage-show/
LOCATION:Grant County Fairgrounds\, 3953 Airway Dr NE\, Moses Lake\, WA\, 98837\, United States
CATEGORIES:Dressage,Horse Show Division
ORGANIZER;CN="Cheryl Beaudry":MAILTO:beaudryhorsemanship@gmail.com
END:VEVENT
END:VCALENDAR