BEGIN:VCALENDAR
VERSION:2.0
PRODID:-//Washington State Horsemen - ECPv6.15.20//NONSGML v1.0//EN
CALSCALE:GREGORIAN
METHOD:PUBLISH
X-ORIGINAL-URL:https://washingtonstatehorsemen.org
X-WR-CALDESC:Events for Washington State Horsemen
REFRESH-INTERVAL;VALUE=DURATION:PT1H
X-Robots-Tag:noindex
X-PUBLISHED-TTL:PT1H
BEGIN:VTIMEZONE
TZID:America/Monterrey
BEGIN:DAYLIGHT
TZOFFSETFROM:-0600
TZOFFSETTO:-0500
TZNAME:CDT
DTSTART:20220403T080000
END:DAYLIGHT
BEGIN:STANDARD
TZOFFSETFROM:-0500
TZOFFSETTO:-0600
TZNAME:CST
DTSTART:20221030T070000
END:STANDARD
END:VTIMEZONE
BEGIN:VEVENT
DTSTART;VALUE=DATE:20230520
DTEND;VALUE=DATE:20230522
DTSTAMP:20260424T041314
CREATED:20230424T213912Z
LAST-MODIFIED:20230424T213920Z
UID:9974-1684540800-1684713599@washingtonstatehorsemen.org
SUMMARY:Mayflowers Dressage Shows 1 and 2
DESCRIPTION:
URL:https://washingtonstatehorsemen.org/event/mayflowers-dressage-shows-1-and-2/
LOCATION:Lazy K\, WA\, United States
CATEGORIES:Dressage,Horse Show Division
END:VEVENT
END:VCALENDAR