BEGIN:VCALENDAR
VERSION:2.0
PRODID:-//Washington State Horsemen - ECPv6.15.20//NONSGML v1.0//EN
CALSCALE:GREGORIAN
METHOD:PUBLISH
X-ORIGINAL-URL:https://washingtonstatehorsemen.org
X-WR-CALDESC:Events for Washington State Horsemen
REFRESH-INTERVAL;VALUE=DURATION:PT1H
X-Robots-Tag:noindex
X-PUBLISHED-TTL:PT1H
BEGIN:VTIMEZONE
TZID:America/Monterrey
BEGIN:STANDARD
TZOFFSETFROM:-0600
TZOFFSETTO:-0600
TZNAME:CST
DTSTART:20250101T000000
END:STANDARD
END:VTIMEZONE
BEGIN:VEVENT
DTSTART;TZID=America/Monterrey:20260503T090000
DTEND;TZID=America/Monterrey:20260503T170000
DTSTAMP:20260421T191646
CREATED:20220126T013451Z
LAST-MODIFIED:20260110T033722Z
UID:9126-1777798800-1777827600@washingtonstatehorsemen.org
SUMMARY:NORTH COUNTRY RIDERS GAMES SHOW
DESCRIPTION:Event Order – KH\, P\, TP\, 2M3B\, F\, TF\, B\, KR\, TB\, RR\, F8\, 2MS\, CS\, CH\, RL. Reschedule or moving to Kelsey Arena if rain (TBD). LL\, BK\, A\, B\, C\, and D rides are $2.00 each. Jackpot Classes $5.00 each with an 80% payback. Arena Fee at $3.00 per rider / per day (members) or $13.00 per rider / per day (non-members). Times Only. No Stalls (participants may bring/use portable pens).  Dry Camping Available. Dogs must remain at their trailer – owners to clean up after them. Riders must adhere to attire rules found in WSHGD rulebook. Before leaving this private facility\, riders must clean their area\, fill in holes\, and haul out all garbage. Horses not permitted in the concessions / house vicinity.  NEZ / WSHGD Approved.
URL:https://washingtonstatehorsemen.org/event/north-country-riders-games-show-69/
LOCATION:Triple Creek Ranch\, 1618 W Antler Rd\, Deer Park\, WA\, 99006\, United States
CATEGORIES:Games Division
ORGANIZER;CN="Melissa Kelsey":MAILTO:mkaquatherapy@gmail.com
END:VEVENT
END:VCALENDAR