BEGIN:VCALENDAR
VERSION:2.0
PRODID:-//Washington State Horsemen - ECPv6.15.20//NONSGML v1.0//EN
CALSCALE:GREGORIAN
METHOD:PUBLISH
X-WR-CALNAME:Washington State Horsemen
X-ORIGINAL-URL:https://washingtonstatehorsemen.org
X-WR-CALDESC:Events for Washington State Horsemen
REFRESH-INTERVAL;VALUE=DURATION:PT1H
X-Robots-Tag:noindex
X-PUBLISHED-TTL:PT1H
BEGIN:VTIMEZONE
TZID:America/Monterrey
BEGIN:STANDARD
TZOFFSETFROM:-0600
TZOFFSETTO:-0600
TZNAME:CST
DTSTART:20240101T000000
END:STANDARD
END:VTIMEZONE
BEGIN:VEVENT
DTSTART;TZID=America/Monterrey:20250726T080000
DTEND;TZID=America/Monterrey:20250726T170000
DTSTAMP:20260422T112249
CREATED:20220519T190039Z
LAST-MODIFIED:20250324T033250Z
UID:9453-1753516800-1753549200@washingtonstatehorsemen.org
SUMMARY:Cowgirl Up Games Show
DESCRIPTION:Event Order – B\,CS\,TB\,2MS\,RR\,KH\,P\,TP\,F8\,F\,TF\,2M3B\,KR\,CH\,RL. LL\, Buckaroo\, ABCD\, and Jackpot. Reschedule if rain. Rides are $2.00 each. Jackpot Classes $5.00 each with an 80% payback. Arena Fee at $4.00 per rider / day ($14.00 per rider / day for non-members). Times Only. No Stalls. Dry Camping (in parking area) and Hookups (in campground / fee charged) Available. Dogs must be on leashes. Alcohol permitted only in personal camps. Show Chair is Jessie McLaughlin at 509.434.4555 or Ldsmacs@comcast.net. NEZ / WSHGD Approved.
URL:https://washingtonstatehorsemen.org/event/cowgirl-up-games-show-8/
LOCATION:Pend Oreille County Fairgrounds\, 419152 State Route 20\, Cusick\, WA\, 99119\, United States
CATEGORIES:Games Division
END:VEVENT
END:VCALENDAR