BEGIN:VCALENDAR
VERSION:2.0
PRODID:-//Washington State Horsemen - ECPv6.15.20//NONSGML v1.0//EN
CALSCALE:GREGORIAN
METHOD:PUBLISH
X-ORIGINAL-URL:https://washingtonstatehorsemen.org
X-WR-CALDESC:Events for Washington State Horsemen
REFRESH-INTERVAL;VALUE=DURATION:PT1H
X-Robots-Tag:noindex
X-PUBLISHED-TTL:PT1H
BEGIN:VTIMEZONE
TZID:America/Monterrey
BEGIN:STANDARD
TZOFFSETFROM:-0600
TZOFFSETTO:-0600
TZNAME:CST
DTSTART:20250101T000000
END:STANDARD
END:VTIMEZONE
BEGIN:VEVENT
DTSTART;TZID=America/Monterrey:20260329T090000
DTEND;TZID=America/Monterrey:20260329T170000
DTSTAMP:20260421T190901
CREATED:20220130T171356Z
LAST-MODIFIED:20260110T042351Z
UID:9155-1774774800-1774803600@washingtonstatehorsemen.org
SUMMARY:WSCS BENEFIT GAMES SHOW
DESCRIPTION:Event Order – CS\,TB\,2MS\,RR\,KH\,B\,P\,TP\,F8\,F\,TF\,2M3B\,KR\,CH\,RL \nInfo: Times Only\, A B C D Bk LL at $2.00 per ride\, 80% Jackpot (all events) at $5.00 per person per ride. Arena Fee at $3.00 per rider / per day (members) or $13.00 per rider / per day (non-members). No stalls\, no camping\, no dogs\, no alcohol. Please utilize Red Gate at the east end of the facility off of Broadway Avenue (5100 E Broadway). \nRiders must adhere to attire rules found in WSHGD rulebook.  Before leaving facility\, riders must clean their area\, fill in holes\, and haul out all garbage.  NEZ / WSHGD Approved.
URL:https://washingtonstatehorsemen.org/event/wscs-benefit-games-show-5/
LOCATION:Spokane County Fair & Expo Center\, 404 N Havana St\, Spokane Valley\, WA\, 99202\, United States
CATEGORIES:Games Division
ORGANIZER;CN="Melissa Kelsey":MAILTO:mkaquatherapy@gmail.com
END:VEVENT
END:VCALENDAR